BEGIN:VCALENDAR
VERSION:2.0
PRODID:-//ChamberMaster//Event Calendar 2.0//EN
METHOD:PUBLISH
X-PUBLISHED-TTL:P1H
REFRESH-INTERVAL:P1H
CALSCALE:GREGORIAN
BEGIN:VTIMEZONE
TZID:America/New_York
BEGIN:DAYLIGHT
RRULE:FREQ=YEARLY;BYMONTH=3;BYDAY=2SU
DTSTART:20070101T000000
TZOFFSETFROM:-0500
TZOFFSETTO:-0400
TZNAME:Eastern Daylight Time
END:DAYLIGHT
BEGIN:STANDARD
RRULE:FREQ=YEARLY;BYMONTH=11;BYDAY=1SU
DTSTART:20070101T000000
TZOFFSETFROM:-0400
TZOFFSETTO:-0500
TZNAME:Eastern Standard Time
END:STANDARD
END:VTIMEZONE
BEGIN:VEVENT
DTSTART;TZID=America/New_York:20260409T170000
DTEND;TZID=America/New_York:20260409T190000
X-MICROSOFT-CDO-ALLDAYEVENT:FALSE
SUMMARY:AGM and Member Appreciation
DESCRIPTION:🌿 Member Appreciation Evening & Annual General Meeting (AGM) Date: Thursday\, April 9\, 2026 Time: 5:00 PM   7:00 PM Location: Leaning Post Winery Join us for our 2026 Annual General Meeting   paired with a special Member Appreciation Evening. Our AGM provides a report on the past year's activities and successes\, a review of the financial statements\, and an overview of initiatives for the year ahead. Members will have the opportunity to ask questions and welcome incoming Board members. This year\, we're keeping the formal AGM portion efficient and member-friendly\, followed by a relaxed networking and appreciation reception designed to connect and celebrate our membership. We're especially excited because Leaning Post Winery is also one of our newest Chamber members\, making this the perfect opportunity to welcome them while celebrating you   the businesses and people who make our Chamber community so strong.Why you'll want to be there🍇 A stunning winery setting\nNestled along the Niagara Escarpment\, Leaning Post has become known for its small-lot wines\, vineyard views\, and welcoming hospitality.🍷 Taste local excellence\nEnjoy a cash bar featuring some of Leaning Post's most popular wines   from crisp whites to elegant reds   crafted right here in our region.🍴 Passed hors d'oeuvres\nDelicious\, mingle-friendly bites will be served throughout the evening.🤝 Meaningful connections\nSpend time with fellow members\, welcome new faces\, and celebrate the strength of the Stoney Creek business community..🗳 Proxy Voting If you are unable to attend the AGM\, proxy voting information will be made available in advance. Please watch your email for details. THANK YOU TO OUR SPONSORS - GFL and Hamilton Workforce Planning🤝 Sponsorship Opportunity   $450 Show your support for the Chamber and gain visibility among local business leaders. Sponsorship Includes: Welcome signage at the event Logo placement in marketing materials (emails & newsletter) Logo recognition in the Annual Report Verbal recognition from the MC Social media mentions (pre- and post-event) Post-event thank-you visibilityFor sponsorship inquiries\, please contact: 📧 execdir@chamberstoneycreek.comRegister required by April 3rd. $35 pp + HST
X-ALT-DESC;FMTTYPE=text/html:<!DOCTYPE html><html><head><title></title></head><body aria-disabled="false"><p><span style="font-size: 24px\;">🌿</span><span style="color: rgb(65\, 168\, 95)\;"><strong fr-original-style="" style="font-weight: 700\;"><span style="font-size: 24px\;">&nbsp\;Member Appreciation Evening &amp\; Annual General Meeting (AGM)&nbsp\;</span></strong></span></p><p>Date: Thursday\, April 9\, 2026</p><p>&nbsp\;Time: 5:00 PM &ndash\; 7:00 PM</p><p>&nbsp\;Location: Leaning Post Winery&nbsp\;</p><p>Join us for our 2026 Annual General Meeting &mdash\; paired with a special <strong fr-original-style="" style="font-weight: 700\;"><span style="color: rgb(65\, 168\, 95)\;">Member Appreciation Evening.&nbsp\;</span></strong></p><p>Our AGM provides a report on the past year&rsquo\;s activities and successes\, a review of the financial statements\, and an overview of initiatives for the year ahead. Members will have the opportunity to ask questions and welcome incoming Board members. This year\, we&rsquo\;re keeping the formal AGM portion efficient and member-friendly\, followed by a relaxed networking and appreciation reception designed to connect and celebrate our membership.&nbsp\;</p><p>We&rsquo\;re especially excited because Leaning Post Winery is also one of our newest Chamber members\, making this the perfect opportunity to welcome them while celebrating you &mdash\; the businesses and people who make our Chamber community so strong.</p><h3>Why you&rsquo\;ll want to be there</h3><p>🍇&nbsp\;<strong fr-original-style="" style="font-weight: 700\;">A stunning winery setting</strong><br>Nestled along the Niagara Escarpment\, Leaning Post has become known for its small-lot wines\, vineyard views\, and welcoming hospitality.</p><p>🍷&nbsp\;<strong fr-original-style="" style="font-weight: 700\;">Taste local excellence</strong><br>Enjoy a cash bar featuring some of Leaning Post&rsquo\;s most popular wines &mdash\; from crisp whites to elegant reds &mdash\; crafted right here in our region.</p><p>🍴&nbsp\;<strong fr-original-style="" style="font-weight: 700\;">Passed hors d&rsquo\;oeuvres</strong><br>Delicious\, mingle-friendly bites will be served throughout the evening.</p><p>🤝&nbsp\;<strong fr-original-style="" style="font-weight: 700\;">Meaningful connections</strong><br>Spend time with fellow members\, welcome new faces\, and celebrate the strength of the Stoney Creek business community.</p><p>.🗳 Proxy Voting If you are unable to attend the AGM\, proxy voting information will be made available in advance. Please watch your email for details.&nbsp\;</p><p>THANK YOU TO OUR SPONSORS - GFL and Hamilton Workforce Planning</p><p>🤝 Sponsorship Opportunity &mdash\; $450 Show your support for the Chamber and gain visibility among local business leaders.&nbsp\;</p><p>Sponsorship Includes:&nbsp\;</p><ol fr-original-style="list-style-type: lower-roman\;" style="list-style-type: lower-roman\; list-style-position: inside\;"><li>Welcome signage at the event Logo placement in marketing materials (emails &amp\; newsletter)&nbsp\;</li><li>Logo recognition in the Annual Report&nbsp\;</li><li>Verbal recognition from the MC Social media mentions (pre- and post-event)&nbsp\;</li><li>Post-event thank-you visibility</li></ol><p>For sponsorship inquiries\, please contact: 📧 <a fr-original-style="" href="mailto:execdir@chamberstoneycreek.com" style="user-select: auto\;">execdir@chamberstoneycreek.com</a></p><p><strong fr-original-style="" style="font-weight: 700\;">Register required by April 3rd. $35 pp + HST</strong></p></body></html>
LOCATION:1491 Hwy. 8 Stoney Creek ON L8E 5Z2
UID:e.2586.1406370
SEQUENCE:3
DTSTAMP:20260424T093539Z
URL:https://stoneycreekchamberofcommerce.growthzoneapp.com/events/Details/agm-and-member-appreciation-1662206?sourceTypeId=Hub
END:VEVENT
END:VCALENDAR
